BEGIN:VCALENDAR
VERSION:2.0
PRODID:-//ALEE - ECPv6.15.17.1//NONSGML v1.0//EN
CALSCALE:GREGORIAN
METHOD:PUBLISH
X-ORIGINAL-URL:https://lab-alliance.eu
X-WR-CALDESC:Veranstaltungen für ALEE
REFRESH-INTERVAL;VALUE=DURATION:PT1H
X-Robots-Tag:noindex
X-PUBLISHED-TTL:PT1H
BEGIN:VTIMEZONE
TZID:Europe/Berlin
BEGIN:DAYLIGHT
TZOFFSETFROM:+0100
TZOFFSETTO:+0200
TZNAME:CEST
DTSTART:20250330T010000
END:DAYLIGHT
BEGIN:STANDARD
TZOFFSETFROM:+0200
TZOFFSETTO:+0100
TZNAME:CET
DTSTART:20251026T010000
END:STANDARD
BEGIN:DAYLIGHT
TZOFFSETFROM:+0100
TZOFFSETTO:+0200
TZNAME:CEST
DTSTART:20260329T010000
END:DAYLIGHT
BEGIN:STANDARD
TZOFFSETFROM:+0200
TZOFFSETTO:+0100
TZNAME:CET
DTSTART:20261025T010000
END:STANDARD
BEGIN:DAYLIGHT
TZOFFSETFROM:+0100
TZOFFSETTO:+0200
TZNAME:CEST
DTSTART:20270328T010000
END:DAYLIGHT
BEGIN:STANDARD
TZOFFSETFROM:+0200
TZOFFSETTO:+0100
TZNAME:CET
DTSTART:20271031T010000
END:STANDARD
END:VTIMEZONE
BEGIN:VEVENT
DTSTART;TZID=Europe/Berlin:20260310T000000
DTEND;TZID=Europe/Berlin:20260311T235959
DTSTAMP:20260421T174240
CREATED:20260202T095401Z
LAST-MODIFIED:20260310T194432Z
UID:5185-1773100800-1773273599@lab-alliance.eu
SUMMARY:Mobile Maschinen im Straßenverkehr
DESCRIPTION:Mobile Maschinen im Straßenverkehr \n\n\n\nGrundlagen der Typgenehmigung und Vorbereitung auf die EU-Typgenehmigung nach VO (EU) 2025/14 \n\n\n\n\n\nTermin: 🗓️ 10.–11. März 2026 \n\n\n\nOrt: Stockstadt am Rhein \n\n\n\n\n\n\n\n\n\n\n\nWILLKOMMEN \n\n\n\nMit dieser Schulung bietet ALEE eine gezielte Einführung in die Homologation mobiler Maschinen\, die nicht primär für den Straßenverkehr bestimmt sind\, jedoch auf öffentlichen Straßen eingesetzt werden. \n\n\n\nIm Fokus steht die EU-Rahmenverordnung (EU) 2025/14\, spätestens ab dem 29.01.2028 die EU-Typgenehmigung und EU-Einzelgenehmigung für mobile Maschinen ermöglicht. Ab diesem Datum sind nationale Typgenehmigungen in EU-Mitgliedstaaten nicht mehr erforderlich. \n\n\n\nDie Schulung richtet sich an Hersteller\, die sich frühzeitig und strategisch auf diese Umstellung vorbereiten und ihre Produkte\, Prozesse und Organisation rechtzeitig auf die kommenden EU-Anforderungen ausrichten möchten. \n\n\n\nDie Schulung wurde vom Kraftfahrt-Bundesamt als gleichwertig zu den KBA-eigenen Schulungen anerkannt und entspricht dem Modul A. \n\n\n\n\n\n\n\nAGENDA \n\n\n\nDienstag\, 10. März 2026 \n\n\n\n\n12:00 – 13:00Eintreffen der Teilnehmer & gemeinsames Mittagessen (Restaurant Forum im Hauptgebäude)\n\n\n\n13:00 – 17:00Schulung – Tag 1\n\n\n\n18:00 – 21:00Gemeinsames Abendessen & fachlicher Austausch (Hotelrestaurant)\n\n\n\n\nMittwoch\, 11. März 2026 \n\n\n\n\n08:00 – 12:00Schulung – Tag 2\n\n\n\n12:00 – 13:00Mittagessen\, Verabschiedung & Ausgabe der Teilnahmezertifikate\n\n\n\n13:00 – 14:00Führung durch das Coreum (optional)\n\n\n\n\nProgrammänderungen vorbehalten. \n\n\n\n\n\n\n\nAllgemeine Informationen \n\n\n\n\nTeilnahmegebühr inkl. Verpflegung: 680 € zzgl. MwSt. (auf Rechnung)\n\n\n\nkostenlose Stornierungsmöglichkeit bis eine Woche vor Veranstaltungsbeginn\n\n\n\nHotelkosten sind nicht im Preis inbegriffen und jeder Teilnehmer ist selbst dafür verantwortlich\, sie zu tragen und zu organisieren. https://www.coreum.de/hotel Kontingent (bis 20.2.2026) mit dem Stichwort: „ALEE-Schulung“\n\n\n\n\n\n\n\n\nVERANSTALTUNGSORT \n\n\n\nCoreum GmbH \n\n\n\nHelmut-Kiesel-Straße 2 \n\n\n\n64589 Stockstadt am Rhein \n\n\n\n\n\n\n\nWir freuen uns\, Sie bei unserer Schulung begrüßen zu dürfen! \n\n\n\n \n\n\n\n\n\n\n\n\n\nDiese Schulung hat bereits begonnen.Eine Anmeldung ist nicht mehr möglich.
URL:https://lab-alliance.eu/schulung/mobile-maschinen-im-strassenverkehr/
LOCATION:Stockstadt am Rhein
CATEGORIES:Schulung läuft bereits
ATTACH;FMTTYPE=image/jpeg:https://lab-alliance.eu/wp-content/uploads/2026/01/coreum_Tagungsbroschuere_dt_digital_Stand0625.jpg
END:VEVENT
END:VCALENDAR